Package: spacexr Version: 1.0.0 Command: /home/biocbuild/R/R/bin/R CMD build --keep-empty-dirs --no-resave-data spacexr StartedAt: 2025-10-14 04:52:54 -0000 (Tue, 14 Oct 2025) EndedAt: 2025-10-14 04:55:56 -0000 (Tue, 14 Oct 2025) EllapsedTime: 182.1 seconds RetCode: 0 Status: OK PackageFile: spacexr_1.0.0.tar.gz PackageFileSize: 438.9 KiB