Package: soGGi Version: 1.40.0 Command: rm -rf soGGi.buildbin-libdir && mkdir soGGi.buildbin-libdir && /Users/biocbuild/BBS/utils/build-universal.sh soGGi_1.40.0.tar.gz /Library/Frameworks/R.framework/Resources/bin/R soGGi.buildbin-libdir StartedAt: 2025-04-21 22:53:18 -0400 (Mon, 21 Apr 2025) EndedAt: 2025-04-21 22:53:37 -0400 (Mon, 21 Apr 2025) EllapsedTime: 19.4 seconds RetCode: 0 Status: OK PackageFile: soGGi_1.40.0.tgz PackageFileSize: 3.706 MiB