Package: smoothclust Version: 1.4.0 Command: rm -rf smoothclust.buildbin-libdir && mkdir smoothclust.buildbin-libdir && /Users/biocbuild/BBS/utils/build-universal.sh smoothclust_1.4.0.tar.gz /Library/Frameworks/R.framework/Resources/bin/R smoothclust.buildbin-libdir StartedAt: 2025-10-14 14:49:50 -0400 (Tue, 14 Oct 2025) EndedAt: 2025-10-14 14:50:52 -0400 (Tue, 14 Oct 2025) EllapsedTime: 61.7 seconds RetCode: 0 Status: OK PackageFile: smoothclust_1.4.0.tgz PackageFileSize: 1.105 MiB