Package: smoothclust Version: 1.4.0 Command: /home/biocbuild/R/R/bin/R CMD build --keep-empty-dirs --no-resave-data smoothclust StartedAt: 2025-10-14 04:50:09 -0000 (Tue, 14 Oct 2025) EndedAt: 2025-10-14 04:54:33 -0000 (Tue, 14 Oct 2025) EllapsedTime: 264.1 seconds RetCode: 0 Status: OK PackageFile: smoothclust_1.4.0.tar.gz PackageFileSize: 1.077 MiB