Package: smoothclust Version: 1.4.0 Command: /Library/Frameworks/R.framework/Resources/bin/R CMD INSTALL smoothclust StartedAt: 2025-10-13 16:37:01 -0400 (Mon, 13 Oct 2025) EndedAt: 2025-10-13 16:37:32 -0400 (Mon, 13 Oct 2025) EllapsedTime: 31.2 seconds RetCode: 0 Status: OK