Package: sitePath Version: 1.24.1 Command: /home/biocbuild/R/R/bin/R CMD INSTALL sitePath StartedAt: 2025-10-13 20:21:43 -0000 (Mon, 13 Oct 2025) EndedAt: 2025-10-13 20:22:48 -0000 (Mon, 13 Oct 2025) EllapsedTime: 65.0 seconds RetCode: 0 Status: OK