Package: sitePath Version: 1.24.1 Command: /home/biocbuild/R/R/bin/R CMD build --keep-empty-dirs --no-resave-data sitePath StartedAt: 2025-10-14 04:48:45 -0000 (Tue, 14 Oct 2025) EndedAt: 2025-10-14 04:50:16 -0000 (Tue, 14 Oct 2025) EllapsedTime: 91.1 seconds RetCode: 0 Status: OK PackageFile: sitePath_1.24.1.tar.gz PackageFileSize: 1.178 MiB