Package: singscore Version: 1.28.1 Command: /home/biocbuild/R/R/bin/R CMD INSTALL singscore StartedAt: 2025-10-13 20:44:23 -0000 (Mon, 13 Oct 2025) EndedAt: 2025-10-13 20:45:12 -0000 (Mon, 13 Oct 2025) EllapsedTime: 48.0 seconds RetCode: 0 Status: OK