Package: singscore Version: 1.28.1 Command: /home/biocbuild/R/R/bin/R CMD build --keep-empty-dirs --no-resave-data singscore StartedAt: 2025-10-14 04:47:58 -0000 (Tue, 14 Oct 2025) EndedAt: 2025-10-14 04:49:31 -0000 (Tue, 14 Oct 2025) EllapsedTime: 93.1 seconds RetCode: 0 Status: OK PackageFile: singscore_1.28.1.tar.gz PackageFileSize: 2.944 MiB