Package: singleCellTK Version: 2.18.0 Command: rm -rf singleCellTK.buildbin-libdir && mkdir singleCellTK.buildbin-libdir && /Users/biocbuild/BBS/utils/build-universal.sh singleCellTK_2.18.0.tar.gz /Library/Frameworks/R.framework/Resources/bin/R singleCellTK.buildbin-libdir StartedAt: 2025-04-21 22:52:53 -0400 (Mon, 21 Apr 2025) EndedAt: 2025-04-21 22:53:13 -0400 (Mon, 21 Apr 2025) EllapsedTime: 19.4 seconds RetCode: 0 Status: OK PackageFile: singleCellTK_2.18.0.tgz PackageFileSize: 4.609 MiB