Package: simplifyEnrichment Version: 2.2.0 Command: /home/biocbuild/R/R/bin/R CMD build --keep-empty-dirs --no-resave-data simplifyEnrichment StartedAt: 2025-10-14 04:45:54 -0000 (Tue, 14 Oct 2025) EndedAt: 2025-10-14 04:46:20 -0000 (Tue, 14 Oct 2025) EllapsedTime: 26.0 seconds RetCode: 0 Status: OK PackageFile: simplifyEnrichment_2.2.0.tar.gz PackageFileSize: 1.025 MiB