Package: simplifyEnrichment Version: 2.2.0 Command: /Library/Frameworks/R.framework/Resources/bin/R CMD build --keep-empty-dirs --no-resave-data simplifyEnrichment StartedAt: 2025-10-14 09:37:04 -0400 (Tue, 14 Oct 2025) EndedAt: 2025-10-14 09:37:29 -0400 (Tue, 14 Oct 2025) EllapsedTime: 24.9 seconds RetCode: 0 Status: OK PackageFile: simplifyEnrichment_2.2.0.tar.gz PackageFileSize: 1.025 MiB