Package: simplifyEnrichment Version: 2.2.0 Command: rm -rf simplifyEnrichment.buildbin-libdir && mkdir simplifyEnrichment.buildbin-libdir && /Users/biocbuild/BBS/utils/build-universal.sh simplifyEnrichment_2.2.0.tar.gz /Library/Frameworks/R.framework/Resources/bin/R simplifyEnrichment.buildbin-libdir StartedAt: 2025-10-15 20:33:37 -0400 (Wed, 15 Oct 2025) EndedAt: 2025-10-15 20:34:00 -0400 (Wed, 15 Oct 2025) EllapsedTime: 22.8 seconds RetCode: 0 Status: OK PackageFile: simplifyEnrichment_2.2.0.tgz PackageFileSize: 1.525 MiB