Package: simpleSeg Version: 1.10.1 Command: /home/biocbuild/R/R/bin/R CMD INSTALL simpleSeg StartedAt: 2025-10-13 20:52:46 -0000 (Mon, 13 Oct 2025) EndedAt: 2025-10-13 20:54:01 -0000 (Mon, 13 Oct 2025) EllapsedTime: 74.5 seconds RetCode: 0 Status: OK