Package: simpleSeg Version: 1.10.1 Command: /Library/Frameworks/R.framework/Resources/bin/R CMD INSTALL simpleSeg StartedAt: 2025-10-13 16:25:06 -0400 (Mon, 13 Oct 2025) EndedAt: 2025-10-13 16:26:01 -0400 (Mon, 13 Oct 2025) EllapsedTime: 54.7 seconds RetCode: 0 Status: OK