Package: simpleSeg Version: 1.10.1 Command: /Library/Frameworks/R.framework/Resources/bin/R CMD build --keep-empty-dirs --no-resave-data simpleSeg StartedAt: 2025-10-14 09:36:29 -0400 (Tue, 14 Oct 2025) EndedAt: 2025-10-14 09:39:38 -0400 (Tue, 14 Oct 2025) EllapsedTime: 189.3 seconds RetCode: 0 Status: OK PackageFile: simpleSeg_1.10.1.tar.gz PackageFileSize: 4.763 MiB