Package: simpleSeg Version: 1.10.1 Command: rm -rf simpleSeg.buildbin-libdir && mkdir simpleSeg.buildbin-libdir && /Users/biocbuild/BBS/utils/build-universal.sh simpleSeg_1.10.1.tar.gz /Library/Frameworks/R.framework/Resources/bin/R simpleSeg.buildbin-libdir StartedAt: 2025-10-15 20:33:20 -0400 (Wed, 15 Oct 2025) EndedAt: 2025-10-15 20:34:20 -0400 (Wed, 15 Oct 2025) EllapsedTime: 60.0 seconds RetCode: 0 Status: OK PackageFile: simpleSeg_1.10.1.tgz PackageFileSize: 4.694 MiB