Package: simPIC Version: 1.4.0 Command: /home/biocbuild/bbs-3.21-bioc/R/bin/R CMD build --keep-empty-dirs --no-resave-data simPIC StartedAt: 2025-10-15 19:56:13 -0400 (Wed, 15 Oct 2025) EndedAt: 2025-10-15 19:57:05 -0400 (Wed, 15 Oct 2025) EllapsedTime: 52.0 seconds RetCode: 0 Status: OK PackageFile: simPIC_1.4.0.tar.gz PackageFileSize: 1.135 MiB