Package: simPIC Version: 1.4.0 Command: /home/biocbuild/R/R/bin/R CMD INSTALL simPIC StartedAt: 2025-10-13 20:38:29 -0000 (Mon, 13 Oct 2025) EndedAt: 2025-10-13 20:39:03 -0000 (Mon, 13 Oct 2025) EllapsedTime: 34.0 seconds RetCode: 0 Status: OK