Package: simPIC Version: 1.4.0 Command: /home/biocbuild/R/R/bin/R CMD build --keep-empty-dirs --no-resave-data simPIC StartedAt: 2025-10-14 04:45:13 -0000 (Tue, 14 Oct 2025) EndedAt: 2025-10-14 04:46:23 -0000 (Tue, 14 Oct 2025) EllapsedTime: 70.0 seconds RetCode: 0 Status: OK PackageFile: simPIC_1.4.0.tar.gz PackageFileSize: 1.2 MiB