Package: simPIC Version: 1.4.0 Command: /Library/Frameworks/R.framework/Resources/bin/R CMD INSTALL simPIC StartedAt: 2025-10-13 16:36:53 -0400 (Mon, 13 Oct 2025) EndedAt: 2025-10-13 16:37:21 -0400 (Mon, 13 Oct 2025) EllapsedTime: 28.6 seconds RetCode: 0 Status: OK