Package: simPIC Version: 1.4.0 Command: /Library/Frameworks/R.framework/Resources/bin/R CMD build --keep-empty-dirs --no-resave-data simPIC StartedAt: 2025-10-14 09:35:54 -0400 (Tue, 14 Oct 2025) EndedAt: 2025-10-14 09:37:04 -0400 (Tue, 14 Oct 2025) EllapsedTime: 69.9 seconds RetCode: 0 Status: OK PackageFile: simPIC_1.4.0.tar.gz PackageFileSize: 1.144 MiB