Package: signatureSearch Version: 1.22.0 Command: /home/biocbuild/R/R/bin/R CMD INSTALL signatureSearch StartedAt: 2025-10-13 21:08:05 -0000 (Mon, 13 Oct 2025) EndedAt: 2025-10-13 21:10:41 -0000 (Mon, 13 Oct 2025) EllapsedTime: 155.9 seconds RetCode: 0 Status: OK