Package: signatureSearch Version: 1.22.0 Command: /home/biocbuild/R/R/bin/R CMD build --keep-empty-dirs --no-resave-data signatureSearch StartedAt: 2025-10-14 04:43:54 -0000 (Tue, 14 Oct 2025) EndedAt: 2025-10-14 05:07:18 -0000 (Tue, 14 Oct 2025) EllapsedTime: 1403.7 seconds RetCode: 0 Status: OK PackageFile: signatureSearch_1.22.0.tar.gz PackageFileSize: 5.342 MiB