Package: sigFeature Version: 1.26.0 Command: /home/biocbuild/R/R/bin/R CMD INSTALL sigFeature StartedAt: 2025-10-13 20:34:28 -0000 (Mon, 13 Oct 2025) EndedAt: 2025-10-13 20:35:03 -0000 (Mon, 13 Oct 2025) EllapsedTime: 35.6 seconds RetCode: 0 Status: OK