Package: shinyepico Version: 1.16.0 Command: /home/biocbuild/bbs-3.21-bioc/R/bin/R CMD INSTALL shinyepico StartedAt: 2025-10-15 15:40:55 -0400 (Wed, 15 Oct 2025) EndedAt: 2025-10-15 15:41:00 -0400 (Wed, 15 Oct 2025) EllapsedTime: 5.1 seconds RetCode: 0 Status: OK