Package: shinyepico Version: 1.16.0 Command: /Library/Frameworks/R.framework/Resources/bin/R CMD INSTALL shinyepico StartedAt: 2025-04-21 15:34:54 -0400 (Mon, 21 Apr 2025) EndedAt: 2025-04-21 15:35:01 -0400 (Mon, 21 Apr 2025) EllapsedTime: 7.5 seconds RetCode: 0 Status: OK