Package: shinyepico Version: 1.16.0 Command: /Library/Frameworks/R.framework/Resources/bin/R CMD INSTALL shinyepico StartedAt: 2025-10-13 17:21:57 -0400 (Mon, 13 Oct 2025) EndedAt: 2025-10-13 17:22:03 -0400 (Mon, 13 Oct 2025) EllapsedTime: 5.6 seconds RetCode: 0 Status: OK