Package: shinyDSP Version: 1.0.3 Command: /home/biocbuild/bbs-3.21-bioc/R/bin/R CMD INSTALL shinyDSP StartedAt: 2025-10-15 15:55:29 -0400 (Wed, 15 Oct 2025) EndedAt: 2025-10-15 15:56:07 -0400 (Wed, 15 Oct 2025) EllapsedTime: 38.1 seconds RetCode: 0 Status: OK