Package: shinyDSP Version: 1.0.3 Command: /home/biocbuild/bbs-3.21-bioc/R/bin/R CMD build --keep-empty-dirs --no-resave-data shinyDSP StartedAt: 2025-10-15 19:54:13 -0400 (Wed, 15 Oct 2025) EndedAt: 2025-10-15 19:59:26 -0400 (Wed, 15 Oct 2025) EllapsedTime: 313.3 seconds RetCode: 0 Status: OK PackageFile: shinyDSP_1.0.3.tar.gz PackageFileSize: 2.679 MiB