Package: shinyDSP Version: 1.0.3 Command: /home/biocbuild/R/R/bin/R CMD INSTALL shinyDSP StartedAt: 2025-10-13 21:14:47 -0000 (Mon, 13 Oct 2025) EndedAt: 2025-10-13 21:15:42 -0000 (Mon, 13 Oct 2025) EllapsedTime: 54.9 seconds RetCode: 0 Status: OK