Package: shinyDSP Version: 1.0.3 Command: /Library/Frameworks/R.framework/Resources/bin/R CMD INSTALL shinyDSP StartedAt: 2025-10-13 18:15:20 -0400 (Mon, 13 Oct 2025) EndedAt: 2025-10-13 18:16:04 -0400 (Mon, 13 Oct 2025) EllapsedTime: 44.0 seconds RetCode: 0 Status: OK