Package: seqTools Version: 1.42.0 Command: /home/biocbuild/R/R/bin/R CMD build --keep-empty-dirs --no-resave-data seqTools StartedAt: 2025-10-14 04:40:26 -0000 (Tue, 14 Oct 2025) EndedAt: 2025-10-14 04:40:41 -0000 (Tue, 14 Oct 2025) EllapsedTime: 15.0 seconds RetCode: 0 Status: OK PackageFile: seqTools_1.42.0.tar.gz PackageFileSize: 520.5 KiB