Package: seqPattern Version: 1.40.0 Command: /home/biocbuild/bbs-3.21-bioc/R/bin/R CMD build --keep-empty-dirs --no-resave-data seqPattern StartedAt: 2025-10-15 19:52:33 -0400 (Wed, 15 Oct 2025) EndedAt: 2025-10-15 19:53:02 -0400 (Wed, 15 Oct 2025) EllapsedTime: 29.0 seconds RetCode: 0 Status: OK PackageFile: seqPattern_1.40.0.tar.gz PackageFileSize: 5.368 MiB