Package: seqPattern Version: 1.40.0 Command: /Library/Frameworks/R.framework/Resources/bin/R CMD INSTALL seqPattern StartedAt: 2025-10-13 15:30:45 -0400 (Mon, 13 Oct 2025) EndedAt: 2025-10-13 15:31:12 -0400 (Mon, 13 Oct 2025) EllapsedTime: 26.5 seconds RetCode: 0 Status: OK