Package: seqPattern Version: 1.40.0 Command: rm -rf seqPattern.buildbin-libdir && mkdir seqPattern.buildbin-libdir && /Users/biocbuild/BBS/utils/build-universal.sh seqPattern_1.40.0.tar.gz /Library/Frameworks/R.framework/Resources/bin/R seqPattern.buildbin-libdir StartedAt: 2025-10-14 14:46:32 -0400 (Tue, 14 Oct 2025) EndedAt: 2025-10-14 14:47:07 -0400 (Tue, 14 Oct 2025) EllapsedTime: 35.1 seconds RetCode: 0 Status: OK PackageFile: seqPattern_1.40.0.tgz PackageFileSize: 3.522 MiB