Package: seqPattern Version: 1.40.0 Command: /home/biocbuild/R/R/bin/R CMD build --keep-empty-dirs --no-resave-data seqPattern StartedAt: 2025-10-14 04:39:46 -0000 (Tue, 14 Oct 2025) EndedAt: 2025-10-14 04:40:28 -0000 (Tue, 14 Oct 2025) EllapsedTime: 42.0 seconds RetCode: 0 Status: OK PackageFile: seqPattern_1.40.0.tar.gz PackageFileSize: 5.358 MiB