Package: seqPattern Version: 1.40.0 Command: /Library/Frameworks/R.framework/Resources/bin/R CMD INSTALL seqPattern StartedAt: 2025-10-13 16:25:54 -0400 (Mon, 13 Oct 2025) EndedAt: 2025-10-13 16:26:07 -0400 (Mon, 13 Oct 2025) EllapsedTime: 12.9 seconds RetCode: 0 Status: OK