Package: seqPattern Version: 1.40.0 Command: /Library/Frameworks/R.framework/Resources/bin/R CMD build --keep-empty-dirs --no-resave-data seqPattern StartedAt: 2025-10-14 09:19:47 -0400 (Tue, 14 Oct 2025) EndedAt: 2025-10-14 09:20:30 -0400 (Tue, 14 Oct 2025) EllapsedTime: 43.0 seconds RetCode: 0 Status: OK PackageFile: seqPattern_1.40.0.tar.gz PackageFileSize: 5.368 MiB