Package: seqPattern Version: 1.40.0 Command: rm -rf seqPattern.buildbin-libdir && mkdir seqPattern.buildbin-libdir && /Users/biocbuild/BBS/utils/build-universal.sh seqPattern_1.40.0.tar.gz /Library/Frameworks/R.framework/Resources/bin/R seqPattern.buildbin-libdir StartedAt: 2025-10-15 20:29:56 -0400 (Wed, 15 Oct 2025) EndedAt: 2025-10-15 20:30:12 -0400 (Wed, 15 Oct 2025) EllapsedTime: 15.5 seconds RetCode: 0 Status: OK PackageFile: seqPattern_1.40.0.tgz PackageFileSize: 3.522 MiB