Package: seqArchR Version: 1.12.0 Command: /home/biocbuild/R/R/bin/R CMD INSTALL seqArchR StartedAt: 2025-10-13 20:36:46 -0000 (Mon, 13 Oct 2025) EndedAt: 2025-10-13 20:37:10 -0000 (Mon, 13 Oct 2025) EllapsedTime: 24.3 seconds RetCode: 0 Status: OK