Package: seqArchR Version: 1.12.0 Command: /home/biocbuild/R/R/bin/R CMD build --keep-empty-dirs --no-resave-data seqArchR StartedAt: 2025-10-14 04:38:13 -0000 (Tue, 14 Oct 2025) EndedAt: 2025-10-14 04:39:15 -0000 (Tue, 14 Oct 2025) EllapsedTime: 62.0 seconds RetCode: 0 Status: OK PackageFile: seqArchR_1.12.0.tar.gz PackageFileSize: 4.344 MiB