Package: segmenter Version: 1.14.0 Command: /Library/Frameworks/R.framework/Resources/bin/R CMD INSTALL segmenter StartedAt: 2025-10-13 16:49:40 -0400 (Mon, 13 Oct 2025) EndedAt: 2025-10-13 16:51:12 -0400 (Mon, 13 Oct 2025) EllapsedTime: 91.7 seconds RetCode: 0 Status: OK