Package: segmenter Version: 1.14.0 Command: /home/biocbuild/R/R/bin/R CMD INSTALL segmenter StartedAt: 2025-10-13 21:18:38 -0000 (Mon, 13 Oct 2025) EndedAt: 2025-10-13 21:19:40 -0000 (Mon, 13 Oct 2025) EllapsedTime: 62.4 seconds RetCode: 0 Status: OK