Package: segmenter Version: 1.14.0 Command: /home/biocbuild/R/R/bin/R CMD build --keep-empty-dirs --no-resave-data segmenter StartedAt: 2025-10-14 04:37:05 -0000 (Tue, 14 Oct 2025) EndedAt: 2025-10-14 04:50:25 -0000 (Tue, 14 Oct 2025) EllapsedTime: 800.6 seconds RetCode: 0 Status: OK PackageFile: segmenter_1.14.0.tar.gz PackageFileSize: 3.949 MiB