Package: segmentSeq Version: 2.42.0 Command: /home/biocbuild/bbs-3.21-bioc/R/bin/R CMD INSTALL segmentSeq StartedAt: 2025-10-15 15:49:49 -0400 (Wed, 15 Oct 2025) EndedAt: 2025-10-15 15:50:26 -0400 (Wed, 15 Oct 2025) EllapsedTime: 36.7 seconds RetCode: 0 Status: OK