Package: segmentSeq Version: 2.42.0 Command: /home/biocbuild/bbs-3.21-bioc/R/bin/R CMD check --install=check:segmentSeq.install-out.txt --library=/home/biocbuild/bbs-3.21-bioc/R/site-library --timings segmentSeq_2.42.0.tar.gz StartedAt: 2025-10-16 03:30:24 -0400 (Thu, 16 Oct 2025) EndedAt: 2025-10-16 03:38:15 -0400 (Thu, 16 Oct 2025) EllapsedTime: 470.7 seconds RetCode: 0 Status: OK CheckDir: segmentSeq.Rcheck Warnings: 0