Package: segmentSeq Version: 2.42.0 Command: /Library/Frameworks/R.framework/Resources/bin/R CMD INSTALL segmentSeq StartedAt: 2025-10-13 16:32:36 -0400 (Mon, 13 Oct 2025) EndedAt: 2025-10-13 16:33:58 -0400 (Mon, 13 Oct 2025) EllapsedTime: 81.3 seconds RetCode: 0 Status: OK