Package: segmentSeq Version: 2.42.0 Command: /Library/Frameworks/R.framework/Resources/bin/R CMD build --keep-empty-dirs --no-resave-data segmentSeq StartedAt: 2025-10-13 22:34:01 -0400 (Mon, 13 Oct 2025) EndedAt: 2025-10-13 22:39:21 -0400 (Mon, 13 Oct 2025) EllapsedTime: 319.3 seconds RetCode: 0 Status: OK PackageFile: segmentSeq_2.42.0.tar.gz PackageFileSize: 3.073 MiB