Package: segmentSeq Version: 2.42.0 Command: /home/biocbuild/R/R/bin/R CMD INSTALL segmentSeq StartedAt: 2025-10-13 21:08:33 -0000 (Mon, 13 Oct 2025) EndedAt: 2025-10-13 21:09:25 -0000 (Mon, 13 Oct 2025) EllapsedTime: 52.8 seconds RetCode: 0 Status: OK